View In:
ArcGIS JavaScript
ArcGIS Online Map Viewer
ArcGIS Earth
Service Description: MPZP/Orn_06_01
Name: MPZP/Orn_06_01
Description:
Single Fused Map Cache: false
Extent:
XMin: 6551385.450200001
YMin: 5558168.036466667
XMax: 6555944.919533334
YMax: 5563742.9978
Spatial Reference: 2177
(2177)
LatestVCSWkid(0)
Initial Extent:
XMin: 6551385.450200001
YMin: 5558168.036466667
XMax: 6555944.919533334
YMax: 5563742.9978
Spatial Reference: 2177
(2177)
LatestVCSWkid(0)
Full Extent:
XMin: 6551385.450200001
YMin: 5558168.036466667
XMax: 6555944.919533334
YMax: 5563742.9978
Spatial Reference: 2177
(2177)
LatestVCSWkid(0)
Pixel Size X: 0.1693333333333196
Pixel Size Y: 0.16933333333331055
Band Count: 3
Pixel Type: U16
RasterFunction Infos: {"rasterFunctionInfos": [{
"name": "None",
"description": "",
"help": ""
}]}
Mensuration Capabilities: Basic
Inspection Capabilities:
Has Histograms: true
Has Colormap: false
Has Multi Dimensions : false
Rendering Rule:
Min Scale: 0
Max Scale: 0
Resampling: false
Copyright Text:
Service Data Type: esriImageServiceDataTypeGeneric
Min Values: 0, 0, 0
Max Values: 256, 256, 256
Mean Values: 196.56988269823324, 186.16920176598862, 164.49123035801117
Standard Deviation Values: 53.769098936724774, 54.23364095983069, 41.45361768862924
Object ID Field:
Fields:
None
Default Mosaic Method: Center
Allowed Mosaic Methods:
SortField:
SortValue: null
Mosaic Operator: First
Default Compression Quality: 75
Default Resampling Method: Bilinear
Max Record Count: null
Max Image Height: 4100
Max Image Width: 15000
Max Download Image Count: null
Max Mosaic Image Count: null
Allow Raster Function: true
Allow Copy: true
Allow Analysis: true
Allow Compute TiePoints: false
Supports Statistics: false
Supports Advanced Queries: false
Use StandardizedQueries: true
Raster Type Infos:
Name: Raster Dataset
Description: Supports all ArcGIS Raster Datasets
Help:
Has Raster Attribute Table: false
Edit Fields Info: null
Ownership Based AccessControl For Rasters: null
Child Resources:
Info
Histograms
Statistics
Key Properties
Legend
Raster Function Infos
Supported Operations:
Export Image
Identify
Measure
Compute Histograms
Compute Statistics Histograms
Get Samples
Compute Class Statistics
Query Boundary
Compute Pixel Location
Compute Angles
Validate
Project