{
 "currentVersion": 11.3,
 "serviceDescription": "MPZP/Orn_06_01",
 "name": "MPZP/Orn_06_01",
 "description": "",
 "extent": {
  "xmin": 6551385.450200001,
  "ymin": 5558168.036466667,
  "xmax": 6555944.919533334,
  "ymax": 5563742.9978,
  "spatialReference": {
   "wkid": 2177,
   "latestWkid": 2177
  }
 },
 "initialExtent": {
  "xmin": 6551385.450200001,
  "ymin": 5558168.036466667,
  "xmax": 6555944.919533334,
  "ymax": 5563742.9978,
  "spatialReference": {
   "wkid": 2177,
   "latestWkid": 2177
  }
 },
 "fullExtent": {
  "xmin": 6551385.450200001,
  "ymin": 5558168.036466667,
  "xmax": 6555944.919533334,
  "ymax": 5563742.9978,
  "spatialReference": {
   "wkid": 2177,
   "latestWkid": 2177
  }
 },
 "sortableFields": "",
 "bandCount": 3,
 "pixelType": "U16",
 "minValues": [
  0,
  0,
  0
 ],
 "maxValues": [
  256,
  256,
  256
 ],
 "meanValues": [
  196.56988269823324,
  186.16920176598862,
  164.49123035801117
 ],
 "stdvValues": [
  53.769098936724774,
  54.23364095983069,
  41.45361768862924
 ],
 "hasMultidimensions": false,
 "pixelSizeX": 0.1693333333333196,
 "pixelSizeY": 0.16933333333331055,
 "meanPixelSize": 0.16933333333331507,
 "datasetFormat": "FGDBR",
 "uncompressedSize": 5318908188,
 "blockWidth": 128,
 "blockHeight": 128,
 "compressionType": "LZ77",
 "bandNames": [
  "Band_1",
  "Band_2",
  "Band_3"
 ],
 "allowCopy": true,
 "allowAnalysis": true,
 "itemAccess": false,
 "inspectionCapabilities": "",
 "minPixelSize": 0,
 "maxPixelSize": 0,
 "copyrightText": "",
 "serviceDataType": "esriImageServiceDataTypeGeneric",
 "serviceSourceType": "esriImageServiceSourceTypeDataset",
 "objectIdField": "",
 "fields": [],
 "capabilities": "Mensuration,Image,Metadata",
 "defaultMosaicMethod": "Center",
 "allowedMosaicMethods": "",
 "sortField": "",
 "sortValue": null,
 "sortAscending": true,
 "mosaicOperator": "First",
 "defaultCompressionQuality": 75,
 "defaultResamplingMethod": "Bilinear",
 "maxImageHeight": 4100,
 "maxImageWidth": 15000,
 "allowRasterFunction": true,
 "rasterFunctionInfos": [
  {
   "name": "None",
   "description": "",
   "help": ""
  }
 ],
 "rasterTypeInfos": [
  {
   "name": "Raster Dataset",
   "description": "Supports all ArcGIS Raster Datasets",
   "help": ""
  }
 ],
 "mensurationCapabilities": "Basic",
 "hasHistograms": true,
 "hasColormap": false,
 "hasRasterAttributeTable": false,
 "minScale": 0,
 "maxScale": 0,
 "exportTilesAllowed": false,
 "supportsStatistics": false,
 "supportsAdvancedQueries": false,
 "editFieldsInfo": null,
 "ownershipBasedAccessControlForRasters": null,
 "allowComputeTiePoints": false,
 "useStandardizedQueries": true,
 "advancedQueryCapabilities": {
  "useStandardizedQueries": true,
  "supportsStatistics": false,
  "supportsOrderBy": false,
  "supportsDistinct": false,
  "supportsPagination": false
 },
 "spatialReference": {
  "wkid": 2177,
  "latestWkid": 2177
 },
 "resampling": false
}
